BEGIN:VCALENDAR
VERSION:2.0
PRODID:-//Le Grand Manitou - ECPv6.15.20//NONSGML v1.0//EN
CALSCALE:GREGORIAN
METHOD:PUBLISH
X-WR-CALNAME:Le Grand Manitou
X-ORIGINAL-URL:https://legrandmanitou.org
X-WR-CALDESC:Évènements pour Le Grand Manitou
REFRESH-INTERVAL;VALUE=DURATION:PT1H
X-Robots-Tag:noindex
X-PUBLISHED-TTL:PT1H
BEGIN:VTIMEZONE
TZID:UTC
BEGIN:STANDARD
TZOFFSETFROM:+0000
TZOFFSETTO:+0000
TZNAME:UTC
DTSTART:20250101T000000
END:STANDARD
END:VTIMEZONE
BEGIN:VEVENT
DTSTART;TZID=UTC:20260422T100000
DTEND;TZID=UTC:20260422T180000
DTSTAMP:20260422T122057
CREATED:20251223T082917Z
LAST-MODIFIED:20251223T082917Z
UID:3765-1776852000-1776880800@legrandmanitou.org
SUMMARY:Nanoulak de la cie Infini Dehors à Aiguebelette
DESCRIPTION:
URL:https://legrandmanitou.org/calendrier/nanoulak-de-la-cie-infini-dehors-a-aiguebelette/
LOCATION:Aiguebelette-Novalaise (73)
CATEGORIES:Cie Infini dehors
END:VEVENT
BEGIN:VEVENT
DTSTART;TZID=UTC:20260423T100000
DTEND;TZID=UTC:20260425T190000
DTSTAMP:20260422T122057
CREATED:20250717T090828Z
LAST-MODIFIED:20250717T090828Z
UID:3570-1776938400-1777143600@legrandmanitou.org
SUMMARY:Fondre de la cie Infini Dehors à Lyon
DESCRIPTION:
URL:https://legrandmanitou.org/calendrier/fondre-de-la-cie-infini-dehors-a-lyon/
LOCATION:Lyon (69008)
CATEGORIES:Cie Infini dehors
END:VEVENT
BEGIN:VEVENT
DTSTART;TZID=UTC:20260429T153000
DTEND;TZID=UTC:20260429T163000
DTSTAMP:20260422T122057
CREATED:20251223T081142Z
LAST-MODIFIED:20251223T081142Z
UID:3741-1777476600-1777480200@legrandmanitou.org
SUMMARY:La chronique de la terre et du coeur du Teatro Golondrino à St Eloy les Mines
DESCRIPTION:
URL:https://legrandmanitou.org/calendrier/la-chronique-de-la-terre-et-du-coeur-du-teatro-golondrino-a-st-eloy-les-mines/
LOCATION:Saint Eloy les Mines (63)
CATEGORIES:Golondrino
END:VEVENT
BEGIN:VEVENT
DTSTART;TZID=UTC:20260506T143000
DTEND;TZID=UTC:20260507T103000
DTSTAMP:20260422T122057
CREATED:20251223T082756Z
LAST-MODIFIED:20251223T082756Z
UID:3761-1778077800-1778149800@legrandmanitou.org
SUMMARY:Nanoulak de la cie Infini Dehors à Fontaine
DESCRIPTION:Représentation à 14h30 le 6 mai\nReprésentation à 9h30 le 7 mai
URL:https://legrandmanitou.org/calendrier/nanoulak-de-la-cie-infini-dehors-a-fontaine/
LOCATION:Fontaine (38)
CATEGORIES:Cie Infini dehors
END:VEVENT
BEGIN:VEVENT
DTSTART;TZID=UTC:20260511T093000
DTEND;TZID=UTC:20260511T160000
DTSTAMP:20260422T122057
CREATED:20260331T115219Z
LAST-MODIFIED:20260331T115219Z
UID:3892-1778491800-1778515200@legrandmanitou.org
SUMMARY:Au choix de la cie Encore qui ? (Gorky) à Sermaize les Bains
DESCRIPTION:représentations scolaires\n1 le matin et 1 l’après midi
URL:https://legrandmanitou.org/calendrier/au-choix-de-la-cie-encore-qui-gorky-a-sermaize-les-bains/
LOCATION:Sermaize les Bains (51)
CATEGORIES:Cie Encore qui ?
END:VEVENT
BEGIN:VEVENT
DTSTART;TZID=UTC:20260513T200000
DTEND;TZID=UTC:20260513T210000
DTSTAMP:20260422T122057
CREATED:20260209T082240Z
LAST-MODIFIED:20260209T082240Z
UID:3798-1778702400-1778706000@legrandmanitou.org
SUMMARY:Au choix de la cie Encore qui ? (Gorky) à Talange
DESCRIPTION:
URL:https://legrandmanitou.org/calendrier/au-choix-de-la-cie-encore-qui-gorky-a-talange/
LOCATION:Talange (57)
CATEGORIES:Cie Encore qui ?
END:VEVENT
BEGIN:VEVENT
DTSTART;TZID=UTC:20260514T170000
DTEND;TZID=UTC:20260517T200000
DTSTAMP:20260422T122057
CREATED:20251223T081323Z
LAST-MODIFIED:20260331T113657Z
UID:3743-1778778000-1779048000@legrandmanitou.org
SUMMARY:Les Péripéties et la Chronique de la terre du Teatro Golondrino à Segovia (ESP)
DESCRIPTION:14 et 15 mai : Péripéties de Jojo Golendrini à 17h\n16 et 17 mai : Péripéties de Jojo Golendrini à 11h30\, 13h30 et 17h\nDu 14 au 17 mai : Chronique de la terre à 19H30
URL:https://legrandmanitou.org/calendrier/les-peripeties-et-la-chronique-de-la-terre-du-teatro-golondrino-a-segovia-esp/
LOCATION:Segovia (Espagne)
CATEGORIES:Golondrino
END:VEVENT
BEGIN:VEVENT
DTSTART;TZID=UTC:20260520T100000
DTEND;TZID=UTC:20260520T180000
DTSTAMP:20260422T122057
CREATED:20250717T090922Z
LAST-MODIFIED:20250717T090922Z
UID:3572-1779271200-1779300000@legrandmanitou.org
SUMMARY:Nanoulak de la cie Infini Dehors à la Motte Servolex
DESCRIPTION:
URL:https://legrandmanitou.org/calendrier/nanoulak-de-la-cie-infini-dehors-a-la-motte-servolex/
LOCATION:la Motte Servolex (73)
CATEGORIES:Cie Infini dehors
END:VEVENT
BEGIN:VEVENT
DTSTART;TZID=UTC:20260522T180000
DTEND;TZID=UTC:20260522T190000
DTSTAMP:20260422T122057
CREATED:20260209T082407Z
LAST-MODIFIED:20260209T082407Z
UID:3802-1779472800-1779476400@legrandmanitou.org
SUMMARY:Nanoulak de la cie Infini Dehors à Aiguebelette
DESCRIPTION:
URL:https://legrandmanitou.org/calendrier/nanoulak-de-la-cie-infini-dehors-a-aiguebelette-2/
LOCATION:Aiguebelette-Novalaise (73)
CATEGORIES:Cie Infini dehors
END:VEVENT
BEGIN:VEVENT
DTSTART;TZID=UTC:20260523T141500
DTEND;TZID=UTC:20260524T190000
DTSTAMP:20260422T122057
CREATED:20260331T113942Z
LAST-MODIFIED:20260331T113942Z
UID:3868-1779545700-1779649200@legrandmanitou.org
SUMMARY:Chronique de la terre du Teatro Golondrino à Verrières-en-Forez
DESCRIPTION:Samedi 23 à 14h15\, 17h et 18h\nDimanche 24 à 12h\, 17h15 et 18h30\nOFF du Festival les Monts de la Balle
URL:https://legrandmanitou.org/calendrier/chronique-de-la-terre-du-teatro-golondrino-a-verrieres-en-forez/
LOCATION:Verrières en Forez (42)
CATEGORIES:Golondrino
END:VEVENT
BEGIN:VEVENT
DTSTART;TZID=UTC:20260528T200000
DTEND;TZID=UTC:20260528T210000
DTSTAMP:20260422T122058
CREATED:20260212T131021Z
LAST-MODIFIED:20260331T113202Z
UID:3828-1779998400-1780002000@legrandmanitou.org
SUMMARY:Au choix de la cie Encore qui ? (Gorky) à Beaujeu
DESCRIPTION:
URL:https://legrandmanitou.org/calendrier/au-choix-de-la-cie-encore-qui-gorky-a-beaujeu/
LOCATION:Beaujeu (69)
CATEGORIES:Cie Encore qui ?
END:VEVENT
BEGIN:VEVENT
DTSTART;TZID=UTC:20260530T140000
DTEND;TZID=UTC:20260531T220000
DTSTAMP:20260422T122058
CREATED:20251016T132916Z
LAST-MODIFIED:20251016T132916Z
UID:3685-1780149600-1780264800@legrandmanitou.org
SUMMARY:Don Quichotte du Théâtre du Vide-Poches à Chazelles sur Lyon
DESCRIPTION:1 représentation par jour
URL:https://legrandmanitou.org/calendrier/don-quichotte-du-theatre-du-vide-poches-a-chazelles-sur-lyon/
LOCATION:Chazelle sur Lyon (42)
END:VEVENT
BEGIN:VEVENT
DTSTART;TZID=UTC:20260530T183000
DTEND;TZID=UTC:20260530T193000
DTSTAMP:20260422T122058
CREATED:20260331T115414Z
LAST-MODIFIED:20260331T115414Z
UID:3896-1780165800-1780169400@legrandmanitou.org
SUMMARY:Les balles populaires de la cie Encore qui ? (Gorky) à Heugas
DESCRIPTION:
URL:https://legrandmanitou.org/calendrier/les-balles-populaires-de-la-cie-encore-qui-gorky-a-heugas/
LOCATION:Heugas (40)
CATEGORIES:Cie Encore qui ?
END:VEVENT
BEGIN:VEVENT
DTSTART;TZID=UTC:20260531T180000
DTEND;TZID=UTC:20260531T183000
DTSTAMP:20260422T122058
CREATED:20260331T114047Z
LAST-MODIFIED:20260331T114047Z
UID:3872-1780250400-1780252200@legrandmanitou.org
SUMMARY:Chronique de la terre du Teatro Golondrino à Aydat
DESCRIPTION:
URL:https://legrandmanitou.org/calendrier/chronique-de-la-terre-du-teatro-golondrino-a-aydat/
LOCATION:Aydat (63)
CATEGORIES:Golondrino
END:VEVENT
BEGIN:VEVENT
DTSTART;TZID=UTC:20260606T100000
DTEND;TZID=UTC:20260606T200000
DTSTAMP:20260422T122058
CREATED:20260209T082533Z
LAST-MODIFIED:20260209T082533Z
UID:3804-1780740000-1780776000@legrandmanitou.org
SUMMARY:Du rififi à Cagette city du Théâtre du Vide-Poches à Pissos
DESCRIPTION:
URL:https://legrandmanitou.org/calendrier/du-rififi-a-cagette-city-du-theatre-du-vide-poches-a-pissos/
LOCATION:Pissos (40)
END:VEVENT
BEGIN:VEVENT
DTSTART;TZID=UTC:20260612T140000
DTEND;TZID=UTC:20260612T203000
DTSTAMP:20260422T122058
CREATED:20251223T083047Z
LAST-MODIFIED:20251223T083047Z
UID:3768-1781272800-1781296200@legrandmanitou.org
SUMMARY:Nanoulak de la cie Infini Dehors à Sappey
DESCRIPTION:
URL:https://legrandmanitou.org/calendrier/nanoulak-de-la-cie-infini-dehors-a-sappey/
LOCATION:Sappey (74)
CATEGORIES:Cie Infini dehors
END:VEVENT
BEGIN:VEVENT
DTSTART;TZID=UTC:20260614T130000
DTEND;TZID=UTC:20260614T170000
DTSTAMP:20260422T122058
CREATED:20260331T114311Z
LAST-MODIFIED:20260331T114311Z
UID:3876-1781442000-1781456400@legrandmanitou.org
SUMMARY:L'Evadée du Teatro Golondrino à Alkmaar (Pays Bas)
DESCRIPTION:2 représentations entre 13h et 17h
URL:https://legrandmanitou.org/calendrier/levadee-du-teatro-golondrino-a-alkmaar-pays-bas/
LOCATION:Alkmaar (Pays-Bas)
CATEGORIES:Golondrino
END:VEVENT
BEGIN:VEVENT
DTSTART;TZID=UTC:20260614T153000
DTEND;TZID=UTC:20260614T163000
DTSTAMP:20260422T122058
CREATED:20260209T082748Z
LAST-MODIFIED:20260331T113433Z
UID:3806-1781451000-1781454600@legrandmanitou.org
SUMMARY:Don Quichotte du Théâtre du Vide-Poches à Saint Varent
DESCRIPTION:
URL:https://legrandmanitou.org/calendrier/don-quichotte-du-theatre-du-vide-poches-a-luche-thouarsis/
LOCATION:Saint Varent (79)
END:VEVENT
BEGIN:VEVENT
DTSTART;VALUE=DATE:20260619
DTEND;VALUE=DATE:20260621
DTSTAMP:20260422T122058
CREATED:20250717T092457Z
LAST-MODIFIED:20260209T083006Z
UID:3615-1781827200-1781999999@legrandmanitou.org
SUMMARY:Don Quichotte du Théâtre du Vide Poches à Marseille
DESCRIPTION:Vendredi 19 juin à 18h\nSamedi 20 juin 16h30 \nEspace Médiamix de la Médiathèque
URL:https://legrandmanitou.org/calendrier/don-quichotte-du-theatre-du-vide-poches-a-marseille/
LOCATION:Pertuis (84)
END:VEVENT
BEGIN:VEVENT
DTSTART;TZID=UTC:20260620T103000
DTEND;TZID=UTC:20260620T170000
DTSTAMP:20260422T122058
CREATED:20260415T123459Z
LAST-MODIFIED:20260415T123459Z
UID:3958-1781951400-1781974800@legrandmanitou.org
SUMMARY:L'Evadée du Teatro Golondrino à Eaubonne
DESCRIPTION:2 représentations sur la journée
URL:https://legrandmanitou.org/calendrier/levadee-du-teatro-golondrino-a-eaubonne/
LOCATION:Eaubonne (95)
CATEGORIES:Golondrino
END:VEVENT
BEGIN:VEVENT
DTSTART;TZID=UTC:20260624T100000
DTEND;TZID=UTC:20260624T180000
DTSTAMP:20260422T122058
CREATED:20260331T114431Z
LAST-MODIFIED:20260331T114431Z
UID:3880-1782295200-1782324000@legrandmanitou.org
SUMMARY:Les Péripéties de Jojo Golendrini du Teatro Golondrino à Neuville en Terrain
DESCRIPTION:2 représentations sur la journée (une le matin et une l’après midi)
URL:https://legrandmanitou.org/calendrier/les-peripeties-de-jojo-golendrini-du-teatro-golondrino-a-neuville-en-terrain/
LOCATION:Neuville en Ferrain (59)
CATEGORIES:Golondrino
END:VEVENT
BEGIN:VEVENT
DTSTART;TZID=UTC:20260628T100000
DTEND;TZID=UTC:20260628T200000
DTSTAMP:20260422T122058
CREATED:20260401T081649Z
LAST-MODIFIED:20260401T081649Z
UID:3910-1782640800-1782676800@legrandmanitou.org
SUMMARY:Nanoulak de la cie Infini Dehors à St Victor de Cessieux
DESCRIPTION:
URL:https://legrandmanitou.org/calendrier/nanoulak-de-la-cie-infini-dehors-a-st-victor-de-cessieux/
LOCATION:St Victor de Cessieux (38)
CATEGORIES:Cie Infini dehors
END:VEVENT
BEGIN:VEVENT
DTSTART;TZID=UTC:20260628T100000
DTEND;TZID=UTC:20260628T210000
DTSTAMP:20260422T122058
CREATED:20260331T114619Z
LAST-MODIFIED:20260331T114619Z
UID:3884-1782640800-1782680400@legrandmanitou.org
SUMMARY:Chronique de la terre du Teatro Golondrino à Fyé
DESCRIPTION:3 représentations sur la journée
URL:https://legrandmanitou.org/calendrier/chronique-de-la-terre-du-teatro-golondrino-a-fye/
LOCATION:Fyé (72)
CATEGORIES:Golondrino
END:VEVENT
BEGIN:VEVENT
DTSTART;TZID=UTC:20260701T100000
DTEND;TZID=UTC:20260701T200000
DTSTAMP:20260422T122058
CREATED:20260401T081826Z
LAST-MODIFIED:20260401T081826Z
UID:3914-1782900000-1782936000@legrandmanitou.org
SUMMARY:Nanoulak de la cie Infini Dehors à Pontcharra
DESCRIPTION:
URL:https://legrandmanitou.org/calendrier/nanoulak-de-la-cie-infini-dehors-a-pontcharra/
LOCATION:Pontcharra sur Turdine (69)
CATEGORIES:Cie Infini dehors
END:VEVENT
BEGIN:VEVENT
DTSTART;TZID=UTC:20260703T100000
DTEND;TZID=UTC:20260703T190000
DTSTAMP:20260422T122058
CREATED:20260401T081953Z
LAST-MODIFIED:20260401T081953Z
UID:3918-1783072800-1783105200@legrandmanitou.org
SUMMARY:Nanoulak de la cie Infini Dehors à Cholonge
DESCRIPTION:
URL:https://legrandmanitou.org/calendrier/nanoulak-de-la-cie-infini-dehors-a-cholonge/
LOCATION:Cholonge (38)
CATEGORIES:Cie Infini dehors
END:VEVENT
BEGIN:VEVENT
DTSTART;TZID=UTC:20260703T100000
DTEND;TZID=UTC:20260703T190000
DTSTAMP:20260422T122058
CREATED:20260415T122219Z
LAST-MODIFIED:20260415T122219Z
UID:3923-1783072800-1783105200@legrandmanitou.org
SUMMARY:Street Fool de Max Maccarinelli à Auxonne
DESCRIPTION:
URL:https://legrandmanitou.org/calendrier/street-fool-de-max-maccarinelli-a-auxonne/
LOCATION:Auxonne (21)
END:VEVENT
BEGIN:VEVENT
DTSTART;TZID=UTC:20260704T100000
DTEND;TZID=UTC:20260705T200000
DTSTAMP:20260422T122058
CREATED:20260415T124525Z
LAST-MODIFIED:20260415T124525Z
UID:3970-1783159200-1783281600@legrandmanitou.org
SUMMARY:Don Quichotte du Théâtre du Vide-Poches à Lye
DESCRIPTION:
URL:https://legrandmanitou.org/calendrier/don-quichotte-du-theatre-du-vide-poches-a-lye/
LOCATION:Lye (36)
END:VEVENT
BEGIN:VEVENT
DTSTART;TZID=UTC:20260715T100000
DTEND;TZID=UTC:20260715T200000
DTSTAMP:20260422T122058
CREATED:20260209T083200Z
LAST-MODIFIED:20260209T083200Z
UID:3813-1784109600-1784145600@legrandmanitou.org
SUMMARY:Don Quichotte du Théâtre du Vide-Poches à Pissos-Escource
DESCRIPTION:
URL:https://legrandmanitou.org/calendrier/don-quichotte-du-theatre-du-vide-poches-a-pissos-escource/
LOCATION:Pissos (40)
END:VEVENT
BEGIN:VEVENT
DTSTART;TZID=UTC:20260717T200000
DTEND;TZID=UTC:20260717T210000
DTSTAMP:20260422T122058
CREATED:20260331T115549Z
LAST-MODIFIED:20260331T115549Z
UID:3899-1784318400-1784322000@legrandmanitou.org
SUMMARY:Au choix de la cie Encore qui ? (Gorky) à Nantes
DESCRIPTION:
URL:https://legrandmanitou.org/calendrier/au-choix-de-la-cie-encore-qui-gorky-a-nantes/
LOCATION:Nantes (44)
CATEGORIES:Cie Encore qui ?
END:VEVENT
BEGIN:VEVENT
DTSTART;TZID=UTC:20260718T100000
DTEND;TZID=UTC:20260718T200000
DTSTAMP:20260422T122058
CREATED:20260209T083340Z
LAST-MODIFIED:20260209T083340Z
UID:3815-1784368800-1784404800@legrandmanitou.org
SUMMARY:Du rififi à Cagette city du Théâtre du Vide-Poches à la Réole
DESCRIPTION:
URL:https://legrandmanitou.org/calendrier/du-rififi-a-cagette-city-du-theatre-du-vide-poches-a-la-reole/
LOCATION:La Réole (33)
END:VEVENT
END:VCALENDAR